BEGIN:VCALENDAR
VERSION:2.0
PRODID:-//Banbury Branch Bell Ringers - ECPv6.15.20//NONSGML v1.0//EN
CALSCALE:GREGORIAN
METHOD:PUBLISH
X-WR-CALNAME:Banbury Branch Bell Ringers
X-ORIGINAL-URL:https://banbury.odg.org.uk
X-WR-CALDESC:Events for Banbury Branch Bell Ringers
REFRESH-INTERVAL;VALUE=DURATION:PT1H
X-Robots-Tag:noindex
X-PUBLISHED-TTL:PT1H
BEGIN:VTIMEZONE
TZID:UTC
BEGIN:STANDARD
TZOFFSETFROM:+0000
TZOFFSETTO:+0000
TZNAME:UTC
DTSTART:20240101T000000
END:STANDARD
END:VTIMEZONE
BEGIN:VEVENT
DTSTART;TZID=UTC:20250402T193000
DTEND;TZID=UTC:20250402T210000
DTSTAMP:20260419T172008
CREATED:20250307T142056Z
LAST-MODIFIED:20250307T142056Z
UID:1949-1743622200-1743627600@banbury.odg.org.uk
SUMMARY:Branch Practice at Banbury
DESCRIPTION:A monthly branch practice is held at Banbury for ringers of all abilities.
URL:https://banbury.odg.org.uk/event/branch-practice-at-banbury/
LOCATION:Banbury\, Saint Mary's Church\, Banbury\, OX16 0AA
END:VEVENT
BEGIN:VEVENT
DTSTART;TZID=UTC:20250412T150000
DTEND;TZID=UTC:20250412T170000
DTSTAMP:20260419T172008
CREATED:20241119T103518Z
LAST-MODIFIED:20241119T103518Z
UID:1718-1744470000-1744477200@banbury.odg.org.uk
SUMMARY:Branch Annual General Meeting
DESCRIPTION:
URL:https://banbury.odg.org.uk/event/branch-annual-general-meeting/
END:VEVENT
END:VCALENDAR